BEGIN:VCALENDAR
VERSION:2.0
PRODID:-//wp-events-plugin.com//7.2.3.1//EN
TZID:Europe/Paris
X-WR-TIMEZONE:Europe/Paris
BEGIN:VEVENT
UID:50@espace-vin.com
DTSTART;TZID=Europe/Paris:20250323T110000
DTEND;TZID=Europe/Paris:20250323T123000
DTSTAMP:20250206T215700Z
URL:https://espace-vin.com/events/les-petits-dejeuners-de-sylvain-special-
 terrasses-du-larzac/
SUMMARY:Les Petits Déjeuners de Sylvain Spécial Terrasses du Larzac
DESCRIPTION:Les Petits Déjeuners de Sylvain reviennent !\nAmateurs de bons
  vins et de douceurs matinales\, réjouissez-vous ! Sylvain est de retour 
 avec ses petits déjeuners thématiques\, et cette fois-ci\, il vous emmè
 ne à la découverte des terrasses du Larzac\, cette appellation qui fait 
 frémir les papilles.\n\nDate et Heure\nDimanche 23 mars\, de 11h à 12h30
 \n\nLieu\nEspace Vin de St Chinian\, 8 av de Béziers.\n\nAu programme\nUn
 e dégustation des meilleurs vins des terrasses du Larzac\, sélectionnés
  avec amour par Sylvain. Pour accompagner ces nectars d'exception\, notre 
 partenaire Le Café de la Paix de St Chinian vous régalera avec des bouch
 ées élaborées\, spécialement conçues pour sublimer les saveurs des vi
 ns.\n\n️ Tarifs et Réservations\n25€ par personne. Réservation oblig
 atoire en boutique\, par mail: info@espace-vin.com\, téléphone: 04 67 38
  23 18 ou directement ICI\n\n⚠️ Places limitées !\nNe manquez pas cet
 te occasion unique de découvrir les trésors gustatifs de notre région. 
 Réservez vite votre place !
ATTACH;FMTTYPE=image/jpeg:https://espace-vin.com/wp-content/uploads/2025/0
 2/x-4.jpg
END:VEVENT
BEGIN:VTIMEZONE
TZID:Europe/Paris
X-LIC-LOCATION:Europe/Paris
BEGIN:STANDARD
DTSTART:20241027T020000
TZOFFSETFROM:+0200
TZOFFSETTO:+0100
TZNAME:CET
END:STANDARD
END:VTIMEZONE
END:VCALENDAR