BEGIN:VCALENDAR
VERSION:2.0
PRODID:-//wp-events-plugin.com//7.2.3.1//EN
TZID:Europe/Paris
X-WR-TIMEZONE:Europe/Paris
BEGIN:VEVENT
UID:33@espace-vin.com
DTSTART;TZID=Europe/Paris:20240825T100000
DTEND;TZID=Europe/Paris:20240825T190000
DTSTAMP:20240821T173023Z
URL:https://espace-vin.com/events/animations-estivales-domaine-moulinier/
SUMMARY:ANIMATIONS ESTIVALES: Domaine MOULINIER
DESCRIPTION:&#x1f31e\;Les Jeudis\, Samedis\, Dimanches et Jours Fériés\, 
 l’Espace Vin vous invite à une expérience unique !\nVenez rencontrer n
 os vignerons\, échanger avec eux autour d’une passion commune : le vin.
  Dégustation gratuite de toute leur gamme\, conseils personnalisés et am
 biance conviviale garanties. L’occasion parfaite de découvrir de nouvea
 ux crus et de soutenir les producteurs locaux.\nDimanche 24 août\, de 10h
  à 19h\, laissez-vous séduire par les vins du Domaine MOULINIER\, notre 
 vigneron du mois! Stéphane vous fera découvrir toute la richesse de son 
 terroir. Au programme : des St Chinian et sa nouvelle gamme de vins de cé
 pages en IGP Pays d'oc. Des offres en 5+1 sur une jolie sélection!!\nLes 
 Vins du Domaine 
ATTACH;FMTTYPE=image/jpeg:https://espace-vin.com/wp-content/uploads/2024/0
 8/Copie-de-Programme-juillet-Publicite-Facebook-10.jpg
CATEGORIES:Dégustation Vigneronne
END:VEVENT
BEGIN:VTIMEZONE
TZID:Europe/Paris
X-LIC-LOCATION:Europe/Paris
BEGIN:DAYLIGHT
DTSTART:20240331T030000
TZOFFSETFROM:+0100
TZOFFSETTO:+0200
TZNAME:CEST
END:DAYLIGHT
END:VTIMEZONE
END:VCALENDAR